BEGIN:VCALENDAR
VERSION:2.0
PRODID:-//Fire Heart Creations - ECPv6.15.20//NONSGML v1.0//EN
CALSCALE:GREGORIAN
METHOD:PUBLISH
X-WR-CALNAME:Fire Heart Creations
X-ORIGINAL-URL:https://fireheartcreations.com
X-WR-CALDESC:Events for Fire Heart Creations
REFRESH-INTERVAL;VALUE=DURATION:PT1H
X-Robots-Tag:noindex
X-PUBLISHED-TTL:PT1H
BEGIN:VTIMEZONE
TZID:America/Denver
BEGIN:DAYLIGHT
TZOFFSETFROM:-0700
TZOFFSETTO:-0600
TZNAME:MDT
DTSTART:20220313T090000
END:DAYLIGHT
BEGIN:STANDARD
TZOFFSETFROM:-0600
TZOFFSETTO:-0700
TZNAME:MST
DTSTART:20221106T080000
END:STANDARD
BEGIN:DAYLIGHT
TZOFFSETFROM:-0700
TZOFFSETTO:-0600
TZNAME:MDT
DTSTART:20230312T090000
END:DAYLIGHT
BEGIN:STANDARD
TZOFFSETFROM:-0600
TZOFFSETTO:-0700
TZNAME:MST
DTSTART:20231105T080000
END:STANDARD
BEGIN:DAYLIGHT
TZOFFSETFROM:-0700
TZOFFSETTO:-0600
TZNAME:MDT
DTSTART:20240310T090000
END:DAYLIGHT
BEGIN:STANDARD
TZOFFSETFROM:-0600
TZOFFSETTO:-0700
TZNAME:MST
DTSTART:20241103T080000
END:STANDARD
BEGIN:DAYLIGHT
TZOFFSETFROM:-0700
TZOFFSETTO:-0600
TZNAME:MDT
DTSTART:20250309T090000
END:DAYLIGHT
BEGIN:STANDARD
TZOFFSETFROM:-0600
TZOFFSETTO:-0700
TZNAME:MST
DTSTART:20251102T080000
END:STANDARD
END:VTIMEZONE
BEGIN:VTIMEZONE
TZID:UTC
BEGIN:STANDARD
TZOFFSETFROM:+0000
TZOFFSETTO:+0000
TZNAME:UTC
DTSTART:20220101T000000
END:STANDARD
END:VTIMEZONE
BEGIN:VEVENT
DTSTART;TZID=America/Denver:20240608T100000
DTEND;TZID=America/Denver:20240609T170000
DTSTAMP:20260422T140104
CREATED:20240402T232049Z
LAST-MODIFIED:20240521T012717Z
UID:358131-1717840800-1717952400@fireheartcreations.com
SUMMARY:Highlands Art Festival
DESCRIPTION:David Michael Scott (Fire Heart Creations) is excited to announce their participation in a fantastic new show in the trendy Denver neighborhood of The Highlands! Join us on June 8th & 9th\, presented by ColoradoArtShows.com\, on the beautiful grounds of The Highlands Masonic Lodge. The Lodge’s prominent location on one of Denver’s busiest streets ensures great visibility and attendance. \nThe well-manicured lawn provides the perfect early summer setting for the show\, following our successful Park Hill Art Festival the previous weekend. Denver’s early June weather is nothing short of spectacular\, making it an ideal time to enjoy art and community. \nShow Hours: \n\nSaturday: 10:00 am – 5:00 pm\nSunday: 10:00 am – 5:00 pm\n\nJoin us and experience my unique epoxy resin art\, along with the creations of other talented artists. We build bridges between artists and art lovers—don’t miss out!
URL:https://fireheartcreations.com/event/highlands-art-festival/
LOCATION:The Highlands Masonic Lodge\, 3550 Federal Blvd\, Denver\, 80211\, United States
CATEGORIES:Festivals
ATTACH;FMTTYPE=image/webp:https://fireheartcreations.com/wp-content/uploads/2024/04/download.webp
END:VEVENT
BEGIN:VEVENT
DTSTART;TZID=America/Denver:20240525T090000
DTEND;TZID=America/Denver:20240527T170000
DTSTAMP:20260422T140104
CREATED:20240402T082757Z
LAST-MODIFIED:20240521T013315Z
UID:358126-1716627600-1716829200@fireheartcreations.com
SUMMARY:Estes Park Art Market
DESCRIPTION:Fire Heart Creations is excited to announce our participation in the Estes Park Art Market\, now hosted by the Fine Arts Guild of the Rockies! \nMemorial Day Weekend: \n\nMay 25-26\, 2024: 9am-5pm\nMay 27\, 2024: 9am-3pm\n\nJoin us at Bond Park\, in the heart of downtown Estes Park. For decades\, Estes Park has celebrated visual artists\, and the Fine Arts Guild of the Rockies has ensured that painters\, fabric artists\, photographers\, and 3-D creators can share their work with the public. This prestigious event has been a cornerstone of the community for over forty years. \nCome experience my unique epoxy resin art and explore the amazing talent on display. Don’t miss this opportunity to immerse yourself in creativity and support local artists!
URL:https://fireheartcreations.com/event/estes-park-art-market/
LOCATION:Bond Park\, 170 MacGregor Ave\, Estes Park\, CO\, 80517\, United States
CATEGORIES:Festivals
ATTACH;FMTTYPE=image/png:https://fireheartcreations.com/wp-content/uploads/2024/04/EstesArtMarket.png
END:VEVENT
BEGIN:VEVENT
DTSTART;TZID=America/Denver:20240507T180000
DTEND;TZID=America/Denver:20240507T210000
DTSTAMP:20260422T140104
CREATED:20240412T191542Z
LAST-MODIFIED:20240521T005054Z
UID:358259-1715104800-1715115600@fireheartcreations.com
SUMMARY:Epoxy Art 101:  Workshop
DESCRIPTION:Join us for a fun and creative evening of pouring epoxy resin. \nLearn everything I know about epoxy resin condensed into a three-hour course. I will demonstrate two styles of “pour on top” epoxy art. Afterward\, you get to pour your very own serving board or piece of wall art – which belongs to you. You will also get to pour epoxy into a few small molds. The maximum attendance is four people per course so all attendees will receive personal instruction. \nCourse Includes: \n\nThree hours of fun\, learning\, and artistic creation\nPresentation and learning resources\nDemonstration of multiple styles of epoxy art\nOne serving board or wood canvas (yours to take)\nTabletop epoxy resin and dozens of colors\nMolds\, epoxy equipment\, and a space to make a mess\nYOU KEEP WHAT YOU CREATE\n\nWe Will Cover: \n\nDifferent epoxies\, deep pour\, and tabletop\nHow to color and style your epoxy pours\nAll the tools of the trade\nHow to stay safe using epoxy\nMolds and river tables\nMica powders\, dyes\, and alcohol inks\nRiver tables vs epoxy art vs epoxy countertops and floors\n\nCreations have to be cured for more than 24 hours before you can pick them up. More advanced instruction and private assistance are also available. \nThe cost is $125 per person.
URL:https://fireheartcreations.com/event/epoxy-art-101-workshop/
LOCATION:Fire Heart Creations\, 1682 South Vrain Street\, Denver\, CO\, 80219\, United States
CATEGORIES:Epoxy Art Workshops,Workshop
ATTACH;FMTTYPE=image/jpeg:https://fireheartcreations.com/wp-content/uploads/2023/09/20240320_061751-1-scaled.jpg
ORGANIZER;CN="Fire Heart Creations":MAILTO:fireheartcreates@gmail.com
END:VEVENT
BEGIN:VEVENT
DTSTART;TZID=America/Denver:20240504T120000
DTEND;TZID=America/Denver:20240504T180000
DTSTAMP:20260422T140104
CREATED:20240405T051554Z
LAST-MODIFIED:20240521T005112Z
UID:358165-1714824000-1714845600@fireheartcreations.com
SUMMARY:TheBigWonderful at Belleview Station: 10th Annual Derby Party
DESCRIPTION:Ain’t no party like a Derby Party! TheBigWonderful returns to Belleview Station for its 10th Annual Derby Party and BEER FEST\, Bluegrass & BAZAAR!\nTaking over Belleview Beer Garden and its surrounding streets\, TheBigWonderful at Belleview Station will feature local shopping with 70+ Colorado craft vendors\, unlimited sampling from 15+ breweries\, cideries\, and distilleries\, street food and food trucks\, and live bluegrass. Don your Derby best and join us for all the festivities\, plus a live stream of the Kentucky Derby!
URL:https://fireheartcreations.com/event/thebigwonderful-at-belleview-station-10th-annual-derby-party/
LOCATION:Chenango\, 6751 East Chenango Avenue\, Denver\, CO\, 80237\, United States
CATEGORIES:Festivals
ATTACH;FMTTYPE=image/png:https://fireheartcreations.com/wp-content/uploads/2024/04/TBWDerbyParty2024-FacebookCover.png
END:VEVENT
BEGIN:VEVENT
DTSTART;TZID=America/Denver:20231216T100000
DTEND;TZID=America/Denver:20231217T170000
DTSTAMP:20260422T140104
CREATED:20230906T054341Z
LAST-MODIFIED:20240521T005118Z
UID:357435-1702720800-1702832400@fireheartcreations.com
SUMMARY:Last Chance Gift Fest
DESCRIPTION:Fire Heart Creations is thrilled to be participating in the Last Chance Gift Fest on December 16 & 17 at the Exhibit Hall of the Boulder County Fairgrounds in Longmont. The doors open from 10 am – 6 pm on Saturday and 10 am – 5 pm on Sunday. \nThe Last Chance Gift Fest stands out as an annual holiday shopping extravaganza. Dive into this massive sale\, boasting a rich collection of arts\, and crafts\, toys\, home decor\, scrumptious food\, and numerous unique finds! This complimentary event showcases over 150 of Colorado’s top vendors\, providing a vast range of distinctive holiday gifts. Attendees can also enjoy free live music on both days\, ensuring fun for all age groups. Recognized as the state’s most significant holiday craft fair during the last shopping weekend before Christmas\, it’s undeniably one of the season’s can’t-miss shopping occasions. While the event kicks off at 10 a.m. on both days\, live music sets the festive mood starting at noon. \nBoth admission and parking are absolutely free. See you there!
URL:https://fireheartcreations.com/event/last-chance-gift-fest/
LOCATION:Exhibit Hall at the Boulder County Fairgrounds in Longmont\, 9595 Nelson Road\, Longmont\, CO\, 80501\, United States
CATEGORIES:Festivals
ATTACH;FMTTYPE=image/jpeg:https://fireheartcreations.com/wp-content/uploads/2023/09/Last-Chance-Gift-Fest.jpeg
ORGANIZER;CN="Colorado Events":MAILTO:coloradoevents@gmail.com
END:VEVENT
BEGIN:VEVENT
DTSTART;TZID=America/Denver:20231203T110000
DTEND;TZID=America/Denver:20231203T170000
DTSTAMP:20260422T140104
CREATED:20230906T051622Z
LAST-MODIFIED:20240521T005138Z
UID:357430-1701601200-1701622800@fireheartcreations.com
SUMMARY:Fort Collins Holiday Gift Festival
DESCRIPTION:Join Fire Heart Creations and other amazing vendors for the Fort Collins Holiday Gift Festival on December 3rd\, hosted within the Northside Aztlan Center in Downtown Fort Collins. \nRegarded as Northern Colorado’s premier annual holiday craft fair\, the Fort Collins Holiday Gift Festival presents a handpicked marketplace brimming with fine arts\, handcrafted items\, tantalizing food\, home accents\, and distinctive holiday gifts. Explore an extensive selection of top-quality\, locally crafted gifts suitable for everyone. A delightful shopping experience awaits\, suitable for all family members. Entry is complimentary\, and a festive concert is scheduled to begin at noon. Make sure to mark your calendar for this unparalleled shopping event on Sunday\, December 3rd. \nVenue: Northside Aztlan Community Center\, 112 E Willow St\, Fort Collins\, CO 80524
URL:https://fireheartcreations.com/event/fort-collins-holiday-gift-festival/
LOCATION:Northside Aztlan Center\, 112 E. Willow Street\, Fort Colllins\, CO\, 80524\, United States
CATEGORIES:Festivals
ATTACH;FMTTYPE=image/webp:https://fireheartcreations.com/wp-content/uploads/2023/09/Fort-Collins-Holiday-Gift-Festival-2023-Logo.webp
ORGANIZER;CN="Colorado Events":MAILTO:coloradoevents@gmail.com
END:VEVENT
BEGIN:VEVENT
DTSTART;TZID=UTC:20231118T080000
DTEND;TZID=UTC:20231119T170000
DTSTAMP:20260422T140104
CREATED:20230906T045321Z
LAST-MODIFIED:20240521T005132Z
UID:357425-1700294400-1700413200@fireheartcreations.com
SUMMARY:Gift Spectacular
DESCRIPTION:Fire Heart Creations is excited to have a booth at the Gift Spectacular!  This event is a vibrant celebration of holiday shopping and festive spirit! Dive into the yuletide atmosphere\, exploring an exquisite selection of unique holiday presents. Encounter a diverse range of handcrafted items such as delicate jewelry\, finely-knitted scarves\, charming ceramics\, breathtaking art pieces\, and unparalleled discoveries. Connect with our gifted local artists and creators\, who are eager to unveil the tales and passion behind their works. Relish in gourmet delights offered by our food vendors\, all while soaking in the melodious strains of live music. Our Denver event will also spotlight seasonal beverages and cocktails\, complemented by a variety of food trucks. Ensure you’re part of these two exhilarating weekends\, guaranteed to leave a lasting memory. Pencil us in for a truly magnificent shopping journey. \nENTRY IS ON THE HOUSE \nJoin us on November 18 & 19 at the Denver Sports Castle \nNoon to 8 pm on Saturday and 11 am to 5 pm on Sunday
URL:https://fireheartcreations.com/event/gift-spectacular/
LOCATION:Denver Sports Castle\, 1000 N Broadway\, Denver\, CO\, 80203\, United States
CATEGORIES:Festivals
ATTACH;FMTTYPE=image/webp:https://fireheartcreations.com/wp-content/uploads/2023/09/Gift-Spectacular-2023-Logo.webp
ORGANIZER;CN="Denver Gift Spectacular":MAILTO:coloradoevents@gmail.com
END:VEVENT
BEGIN:VEVENT
DTSTART;TZID=America/Denver:20231103T110000
DTEND;TZID=America/Denver:20231105T170000
DTSTAMP:20260422T140104
CREATED:20230906T043426Z
LAST-MODIFIED:20240521T005145Z
UID:357418-1699009200-1699203600@fireheartcreations.com
SUMMARY:Urban Holiday Market
DESCRIPTION:Fire Heart Creations will be at The Urban Holiday Market is set for November 3\, 4\, & 5. Dive into a holiday shopping extravaganza\, showcasing an unparalleled array of unique seasonal treasures\, top-notch handcrafted items\, fantastic holiday gift suggestions\, gourmet specialty foods\, and more\, all curated from a varied group of local artisans and craftsmen. Revel in an alfresco Holiday Festival situated in Downtown Denver’s core. This distinctive shopping affair will also feature live performances and abundant family entertainment. \nOpen from 11 am to 5 pm on each of the three days.
URL:https://fireheartcreations.com/event/urban-holiday-market/
LOCATION:Wynkoop Plaza at Union Station\, 1701 Wynkoop St.\, Denver\, CO\, 80202\, United States
CATEGORIES:Festivals
ATTACH;FMTTYPE=image/webp:https://fireheartcreations.com/wp-content/uploads/2023/09/Urban-Holiday-Market-Union-Station-2023-Logo.webp
ORGANIZER;CN="Urban Holiday Market":MAILTO:coloradoevents@gmail.com
END:VEVENT
BEGIN:VEVENT
DTSTART;TZID=America/Denver:20231028T100000
DTEND;TZID=America/Denver:20231029T180000
DTSTAMP:20260422T140104
CREATED:20230816T160021Z
LAST-MODIFIED:20240521T005126Z
UID:357295-1698487200-1698602400@fireheartcreations.com
SUMMARY:Deck the Mall
DESCRIPTION:Join Fire Heart Creations for a secure outdoor shopping adventure and usher in the festive season with holiday joy and celebrations. Discover ideal presents for all your loved ones at this alfresco Art & Craft Festival. On offer are an array of distinctive seasonal pieces\, exceptional holiday presents\, and handcrafted gems from local craftsmen. This shopping event promises both unparalleled finds and entertainment for the entire family. \nEntry is complimentary.
URL:https://fireheartcreations.com/event/deck-the-mall/
LOCATION:Peasrl Street Mall\, 1303 Pearl St.\, Boulder\, 80302\, United States
CATEGORIES:Festivals
ATTACH;FMTTYPE=image/webp:https://fireheartcreations.com/wp-content/uploads/2023/08/Deck-The-Mall-2023-Pearl-Street-Logo.webp
ORGANIZER;CN="Colorado Events":MAILTO:coloradoevents@gmail.com
END:VEVENT
END:VCALENDAR